BEGIN:VCALENDAR
VERSION:2.0
PRODID:-//AudioTheme 3.0.2
BEGIN:VEVENT
UID:urn:uuid:09be73cd-335a-453e-a29e-e40f83cb6078
URL:https://sensitivechaos.com/shows/sensitive-chaos-kimono-my-house-1-year-birthday-bash/
DTSTART;TZID=GMT:20210314T040000
SUMMARY:Sensitive Chaos @ Kimono My House 1-Year Birthday Bash
DESCRIPTION:KMH is having a birthday party and you're invited!
LOCATION:Kimono My House\, The Internet\, Everywhere\, Georgia\, The World
END:VEVENT
END:VCALENDAR
